BEGIN:VCALENDAR
VERSION:2.0
PRODID:-//Plone.org//NONSGML plone.app.event//EN
X-WR-TIMEZONE:Europe/Vienna
BEGIN:VEVENT
SUMMARY:Visit to the Plaster Cast Collection: On Sediments and Occidents
DTSTART;TZID=Europe/Vienna:20230627T160000
DTSTAMP:20260424T055727Z
UID:6baedc3c3d514664aa31b753fd2666eb@www.akbild.ac.at
CATEGORIES:Ausstellungen
CREATED:20230531T174743Z
DESCRIPTION:A visit to the Collection of Plaster Casts and a talk with And
 rea Domanig and Johannes Rips in the context of the exhibition On Sediment
 s and Occidents. An event of A...cademy Library and The Collection of Plas
 ter Casts.
LAST-MODIFIED:20240802T102826Z
URL:https://www.akbild.ac.at/en/university/universitylibrary/activities/ex
 hibitions-didactic-program/2023/on-sediments-and-occidents/excursion-to-th
 e-plaster-cast-collection-on-sediments-and-occidents
END:VEVENT
BEGIN:VTIMEZONE
TZID:Europe/Vienna
X-LIC-LOCATION:Europe/Vienna
BEGIN:DAYLIGHT
DTSTART:20230326T030000
TZNAME:CEST
TZOFFSETFROM:+0100
TZOFFSETTO:+0200
END:DAYLIGHT
END:VTIMEZONE
END:VCALENDAR
