BEGIN:VCALENDAR
VERSION:2.0
PRODID:-//Plone.org//NONSGML plone.app.event//EN
X-WR-TIMEZONE:Europe/Vienna
BEGIN:VEVENT
SUMMARY:Opening: On Sediments and Occidents
DTSTART;TZID=Europe/Vienna:20230620T180000
DTSTAMP:20260424T041229Z
UID:9ecf53eef0bf4ac7ba54ffae1026fec1@www.akbild.ac.at
CATEGORIES:Ausstellungen
CREATED:20230531T153904Z
DESCRIPTION:Opening of an exhibition on colonial continuities and cultural
  sedimentation processes with Johannes Rips as part of the Academy Library
 ’s event series Wer A… sagt
LAST-MODIFIED:20240802T102826Z
URL:https://www.akbild.ac.at/en/university/universitylibrary/activities/ex
 hibitions-didactic-program/2023/on-sediments-and-occidents/opening-on-sedi
 ments-and-occidents
END:VEVENT
BEGIN:VTIMEZONE
TZID:Europe/Vienna
X-LIC-LOCATION:Europe/Vienna
BEGIN:DAYLIGHT
DTSTART:20230326T030000
TZNAME:CEST
TZOFFSETFROM:+0100
TZOFFSETTO:+0200
END:DAYLIGHT
END:VTIMEZONE
END:VCALENDAR
