BEGIN:VCALENDAR
VERSION:2.0
PRODID:-//Plone.org//NONSGML plone.app.event//EN
X-WR-TIMEZONE:Europe/Vienna
BEGIN:VEVENT
SUMMARY:Democracy and Peace on the Street: COMRADE CONRADE
DTSTART;TZID=Europe/Vienna:20220323T180000
DTSTAMP:20260423T173622Z
UID:b605ab241caa61f8d4420c1be182856e@www.akbild.ac.at
CATEGORIES:Vorträge / Veranstaltungen
CREATED:20220312T193122Z
DESCRIPTION:Book presentation and talk as part of the series  Wer A… sag
 t  .
LAST-MODIFIED:20240802T102822Z
URL:https://www.akbild.ac.at/en/university/universitylibrary/activities/le
 ctures-events/2022/demokratie-und-frieden-auf-der-strasse-comrade-conrade
END:VEVENT
BEGIN:VTIMEZONE
TZID:Europe/Vienna
X-LIC-LOCATION:Europe/Vienna
BEGIN:STANDARD
DTSTART:20211031T020000
TZNAME:CET
TZOFFSETFROM:+0200
TZOFFSETTO:+0100
END:STANDARD
END:VTIMEZONE
END:VCALENDAR
