BEGIN:VCALENDAR
VERSION:2.0
PRODID:-//Plone.org//NONSGML plone.app.event//EN
X-WR-TIMEZONE:Europe/Vienna
BEGIN:VEVENT
SUMMARY:Die Hochzeit (The Wedding)
DTSTART;TZID=Europe/Vienna:20220907T180000
DTSTAMP:20260419T132216Z
UID:425871aab7c24da9a4d2694b63be8316@www.akbild.ac.at
CATEGORIES:Vorträge / Veranstaltungen
CREATED:20220905T093021Z
DESCRIPTION:Live Performance of the fully rhymed “Ö1 Radio Play of the 
 Year” with Michaela Bilgeri\, Reinhold G. Moritz\, and Author Marc Carna
 l as Narrator.
LAST-MODIFIED:20240802T102822Z
URL:https://www.akbild.ac.at/en/university/universitylibrary/activities/le
 ctures-events/2022/die-hochzeit-the-wedding
END:VEVENT
BEGIN:VTIMEZONE
TZID:Europe/Vienna
X-LIC-LOCATION:Europe/Vienna
BEGIN:DAYLIGHT
DTSTART:20220327T030000
TZNAME:CEST
TZOFFSETFROM:+0100
TZOFFSETTO:+0200
END:DAYLIGHT
END:VTIMEZONE
END:VCALENDAR
