BEGIN:VCALENDAR
VERSION:2.0
PRODID:-//Plone.org//NONSGML plone.app.event//EN
X-WR-TIMEZONE:Europe/Vienna
BEGIN:VEVENT
SUMMARY:Marc Carnal\, Katharina Tiwald\, and Peter Waldeck present the Vie
 nnese Milena Verlag and read from new and old works.
DTSTART;TZID=Europe/Vienna:20220921T180000
DTSTAMP:20260423T231552Z
UID:439263ef54034673b94b1aebd80387f3@www.akbild.ac.at
CATEGORIES:Vorträge / Veranstaltungen
CREATED:20220914T110804Z
DESCRIPTION:Marc Carnal\, Katharina Tiwald\, and Peter Waldeck present the
  Viennese Milena Verlag and read from new and old works.
LAST-MODIFIED:20240802T102825Z
URL:https://www.akbild.ac.at/en/university/universitylibrary/activities/le
 ctures-events/2022/marc-carnal-katharina-tiwald-and-peter-waldeck-present-
 the-viennese-milena-verlag-and-read-from-new-and-old-works
END:VEVENT
BEGIN:VTIMEZONE
TZID:Europe/Vienna
X-LIC-LOCATION:Europe/Vienna
BEGIN:DAYLIGHT
DTSTART:20220327T030000
TZNAME:CEST
TZOFFSETFROM:+0100
TZOFFSETTO:+0200
END:DAYLIGHT
END:VTIMEZONE
END:VCALENDAR
