BEGIN:VCALENDAR
VERSION:2.0
PRODID:-//Plone.org//NONSGML plone.app.event//EN
X-WR-TIMEZONE:Europe/Vienna
BEGIN:VEVENT
SUMMARY:Goose Quill\, Squiggle\, Ink Blot –  Reading and Writing Kurrent
  Script
DTSTART;TZID=Europe/Vienna:20231109T143000
DTEND;TZID=Europe/Vienna:20231109T163000
DTSTAMP:20260424T171930Z
UID:fc90951ee07c4979861356093721fc34@www.akbild.ac.at
CATEGORIES:Vorträge / Veranstaltungen
CREATED:20230928T152709Z
DESCRIPTION:A three-unit Kurrent workshop of the University Archives with 
 Ulrike Hirhager as part of the Academy Library’s WissensWert event serie
 s
LAST-MODIFIED:20240802T102822Z
URL:https://www.akbild.ac.at/en/university/universitylibrary/activities/le
 ctures-events/2023/goose-quill-squiggle-ink-blot-reading-and-writing-kurre
 nt-script-1
END:VEVENT
BEGIN:VTIMEZONE
TZID:Europe/Vienna
X-LIC-LOCATION:Europe/Vienna
BEGIN:STANDARD
DTSTART:20231029T020000
TZNAME:CET
TZOFFSETFROM:+0200
TZOFFSETTO:+0100
END:STANDARD
END:VTIMEZONE
END:VCALENDAR
