BEGIN:VCALENDAR
VERSION:2.0
PRODID:-//Plone.org//NONSGML plone.app.event//EN
X-WR-TIMEZONE:Europe/Vienna
BEGIN:VEVENT
SUMMARY:(Scientific) Publishing and Open Access
DTSTART;TZID=Europe/Vienna:20231214T100000
DTEND;TZID=Europe/Vienna:20231214T130000
DTSTAMP:20260424T012957Z
UID:47f8582db4fd45779e73c48d4447477d@www.akbild.ac.at
CATEGORIES:Vorträge / Veranstaltungen
CREATED:20231025T144419Z
DESCRIPTION:An introduction to scientific communication with Andreas Ferus
  as part of the WissensWert series.
LAST-MODIFIED:20240802T102822Z
URL:https://www.akbild.ac.at/en/university/universitylibrary/activities/le
 ctures-events/2023/scientific-publishing-and-open-access-1
END:VEVENT
BEGIN:VTIMEZONE
TZID:Europe/Vienna
X-LIC-LOCATION:Europe/Vienna
BEGIN:STANDARD
DTSTART:20231029T020000
TZNAME:CET
TZOFFSETFROM:+0200
TZOFFSETTO:+0100
END:STANDARD
END:VTIMEZONE
END:VCALENDAR
