BEGIN:VCALENDAR
VERSION:2.0
PRODID:-//Plone.org//NONSGML plone.app.event//EN
X-WR-TIMEZONE:Europe/Vienna
BEGIN:VEVENT
SUMMARY:(Scientific) Publishing and Open Access
DTSTART;TZID=Europe/Vienna:20230511T093000
DTEND;TZID=Europe/Vienna:20230511T123000
DTSTAMP:20260424T012957Z
UID:92d15216916a4640a00a7fbddf7230d5@www.akbild.ac.at
CATEGORIES:Vorträge / Veranstaltungen
CREATED:20230322T170542Z
DESCRIPTION:An introduction to scientific communication with Andreas Ferus
  as part of the WissensWert series.
LAST-MODIFIED:20240802T102822Z
URL:https://www.akbild.ac.at/en/university/universitylibrary/activities/le
 ctures-events/2023/scientific-publishing-and-open-access
END:VEVENT
BEGIN:VTIMEZONE
TZID:Europe/Vienna
X-LIC-LOCATION:Europe/Vienna
BEGIN:DAYLIGHT
DTSTART:20230326T030000
TZNAME:CEST
TZOFFSETFROM:+0100
TZOFFSETTO:+0200
END:DAYLIGHT
END:VTIMEZONE
END:VCALENDAR
