BEGIN:VCALENDAR
VERSION:2.0
PRODID:-//Plone.org//NONSGML plone.app.event//EN
X-WR-TIMEZONE:Europe/Vienna
BEGIN:VEVENT
SUMMARY:The Historical Library of the Academy of Fine Arts Vienna
DTSTART;TZID=Europe/Vienna:20230615T110000
DTEND;TZID=Europe/Vienna:20230615T120000
DTSTAMP:20260423T204119Z
UID:2bcfc719c8e947a29a296b32b1a97bab@www.akbild.ac.at
CATEGORIES:Vorträge / Veranstaltungen
CREATED:20230419T152346Z
DESCRIPTION:A guided tour through the historical premises and the collecti
 on of antique holdings of the A...cademy Library with Martin Kreuz as part
  of the WissensWert series.
LAST-MODIFIED:20240802T102822Z
URL:https://www.akbild.ac.at/en/university/universitylibrary/activities/le
 ctures-events/2023/the-historical-library-of-the-academy-of-fine-arts-vien
 na
END:VEVENT
BEGIN:VTIMEZONE
TZID:Europe/Vienna
X-LIC-LOCATION:Europe/Vienna
BEGIN:DAYLIGHT
DTSTART:20230326T030000
TZNAME:CEST
TZOFFSETFROM:+0100
TZOFFSETTO:+0200
END:DAYLIGHT
END:VTIMEZONE
END:VCALENDAR
