BEGIN:VCALENDAR
VERSION:2.0
PRODID:-//Plone.org//NONSGML plone.app.event//EN
X-WR-TIMEZONE:Europe/Vienna
BEGIN:VEVENT
SUMMARY:Introduction to the Use of the Library of the Academy of Fine Arts
  Vienna
DTSTART;TZID=Europe/Vienna:20251016T110000
DTEND;TZID=Europe/Vienna:20251016T120000
DTSTAMP:20260420T151020Z
UID:7b455637cc3b4811b5b0bf7d94eb243e@www.akbild.ac.at
CATEGORIES:Vorträge / Veranstaltungen
CREATED:20250923T154412Z
DESCRIPTION:An introduction to the use of the A...cademy Library's holding
 s with Patrizia Wiesner-Ledermann as part of the WissensWert series.
LAST-MODIFIED:20250924T064202Z
URL:https://www.akbild.ac.at/en/university/universitylibrary/activities/le
 ctures-events/2025/introduction-to-the-use-of-the-library-of-the-academy-o
 f-fine-arts-vienna-1
END:VEVENT
BEGIN:VTIMEZONE
TZID:Europe/Vienna
X-LIC-LOCATION:Europe/Vienna
BEGIN:DAYLIGHT
DTSTART:20250330T030000
TZNAME:CEST
TZOFFSETFROM:+0100
TZOFFSETTO:+0200
END:DAYLIGHT
END:VTIMEZONE
END:VCALENDAR
