BEGIN:VCALENDAR
VERSION:2.0
PRODID:-//Plone.org//NONSGML plone.app.event//EN
X-WR-TIMEZONE:Europe/Vienna
BEGIN:VEVENT
SUMMARY:Ivana Marjanović: QueerBeograd Cabaret. A Shared Space between Qu
 eer\, Anti-Facism and No Borders Politics
DTSTART;TZID=Europe/Vienna:20250514T180000
DTSTAMP:20260420T150958Z
UID:74b3ccd599c74abfa1257676e04784c9@www.akbild.ac.at
CATEGORIES:Vorträge / Veranstaltungen
CREATED:20250429T171557Z
DESCRIPTION:Ivana Marjanović speaks with Mišo Kapetanović about her rec
 ently published book on QueerBeograd Cabaret and its political-cultural ac
 tivism as part of the Academy Library’s event series Wer A… sagt.
LAST-MODIFIED:20250430T081223Z
URL:https://www.akbild.ac.at/en/university/universitylibrary/activities/le
 ctures-events/2025/ivana-marjanovic-queerbeograd-cabaret-a-shared-space-be
 tween-queer-anti-facism-and-no-borders-politics
END:VEVENT
BEGIN:VTIMEZONE
TZID:Europe/Vienna
X-LIC-LOCATION:Europe/Vienna
BEGIN:DAYLIGHT
DTSTART:20250330T030000
TZNAME:CEST
TZOFFSETFROM:+0100
TZOFFSETTO:+0200
END:DAYLIGHT
END:VTIMEZONE
END:VCALENDAR
